BEGIN:VCALENDAR
VERSION:2.0
PRODID:-//ChamberMaster//Event Calendar 2.0//EN
METHOD:PUBLISH
X-PUBLISHED-TTL:P3D
REFRESH-INTERVAL:P3D
CALSCALE:GREGORIAN
BEGIN:VEVENT
DTSTART:20241005T120000Z
DTEND:20241005T160000Z
X-MICROSOFT-CDO-ALLDAYEVENT:FALSE
SUMMARY:(M) Fall Trifecta
DESCRIPTION:Hey golfers!\n\nDon't miss Eisenhower Lakes Golf Club's annual Fall Trifecta on October 5th\, featuring an exciting 18-hole 2 player tournament with a mix of best ball\, alternate shot\, and captains' choice formats.\n\nWinners will take home fantastic prizes\, so get ready to tee off in style!\n\nAfter the tournament\, enjoy a delicious lunch at Bogey's Grill\, included in your entry fee\, and practice your swing with complementary range balls.\n\nThis event is open to the public\, so secure your spot now for a memorable day of golfing fun at ELGC!\n\nCost\n\n$40 Members\, $60 Active-Duty Military\, $75 Civilians\n\nTo register of for questions\, please call +1 (706)791-2433.\n\nNeed access to the fort? Register at\, Pre-Registration | Gvt.US (army.mil).
X-ALT-DESC;FMTTYPE=text/html:<!--StartFragment-->\n<p style="text-align:left">Hey golfers!</p>\n\n<p style="text-align:left">Don&#39\;t miss Eisenhower Lakes Golf Club&#39\;s annual Fall Trifecta on October 5th\, featuring an exciting 18-hole 2 player tournament with a mix of best ball\, alternate shot\, and captains&#39\; choice formats.</p>\n\n<p style="text-align:left">Winners will take home fantastic prizes\, so get ready to tee off in style!</p>\n\n<p style="text-align:left">After the tournament\, enjoy a delicious lunch at Bogey&rsquo\;s Grill\, included in your entry fee\, and practice your swing with complementary range balls.</p>\n\n<p style="text-align:left">This event is open to the public\, so secure your spot now for a memorable day of golfing fun at ELGC!</p>\n\n<h5>Cost</h5>\n\n<p><span style="font-family:montserrat\,sans-serif">$40 Members\, $60 Active-Duty Military\, $75 Civilians</span></p>\n\n<p><span style="font-family:montserrat\,sans-serif">To register of for questions\, please call&nbsp\;<a class="phone" href="tel:+17067912433" style="box-sizing: border-box\; background-color: transparent\; color: rgb(0\, 120\, 193)\; text-decoration: none\;">+1 (706)791-2433</a>.</span></p>\n\n<p style="text-align:left">Need access to the fort? Register at\,&nbsp\;<!--StartFragment--><a href="https://pass.aie.army.mil/steps/branch_selection">Pre-Registration | Gvt.US (army.mil)</a>.&nbsp\;<!--EndFragment--></p>\n<!--EndFragment-->
LOCATION:537 N Range Rd Fort Eisenhower\, GA 30905
UID:e.1673.12671
SEQUENCE:3
DTSTAMP:20260423T165623Z
URL:http://northaugustachamber.chambermaster.com/events/details/m-fall-trifecta-12671
END:VEVENT

END:VCALENDAR
